BEGIN:VCALENDAR
VERSION:2.0
PRODID:-//VDH Landesverband Th&uuml;ringen - ECPv6.15.20//NONSGML v1.0//EN
CALSCALE:GREGORIAN
METHOD:PUBLISH
X-ORIGINAL-URL:https://xn--vdh-thringen-ilb.de
X-WR-CALDESC:Veranstaltungen für VDH Landesverband Th&uuml;ringen
REFRESH-INTERVAL;VALUE=DURATION:PT1H
X-Robots-Tag:noindex
X-PUBLISHED-TTL:PT1H
BEGIN:VTIMEZONE
TZID:UTC
BEGIN:STANDARD
TZOFFSETFROM:+0000
TZOFFSETTO:+0000
TZNAME:UTC
DTSTART:20260101T000000
END:STANDARD
END:VTIMEZONE
BEGIN:VTIMEZONE
TZID:Europe/Berlin
BEGIN:DAYLIGHT
TZOFFSETFROM:+0100
TZOFFSETTO:+0200
TZNAME:CEST
DTSTART:20260329T010000
END:DAYLIGHT
BEGIN:STANDARD
TZOFFSETFROM:+0200
TZOFFSETTO:+0100
TZNAME:CET
DTSTART:20261025T010000
END:STANDARD
BEGIN:DAYLIGHT
TZOFFSETFROM:+0100
TZOFFSETTO:+0200
TZNAME:CEST
DTSTART:20270328T010000
END:DAYLIGHT
BEGIN:STANDARD
TZOFFSETFROM:+0200
TZOFFSETTO:+0100
TZNAME:CET
DTSTART:20271031T010000
END:STANDARD
BEGIN:DAYLIGHT
TZOFFSETFROM:+0100
TZOFFSETTO:+0200
TZNAME:CEST
DTSTART:20280326T010000
END:DAYLIGHT
BEGIN:STANDARD
TZOFFSETFROM:+0200
TZOFFSETTO:+0100
TZNAME:CET
DTSTART:20281029T010000
END:STANDARD
END:VTIMEZONE
BEGIN:VEVENT
DTSTART;VALUE=DATE:20270612
DTEND;VALUE=DATE:20270613
DTSTAMP:20260423T004634
CREATED:20250826T202335Z
LAST-MODIFIED:20250827T195423Z
UID:738-1812758400-1812844799@xn--vdh-thringen-ilb.de
SUMMARY:Doppel CACIB Sondershausen/Possen 2027 Tag 1
DESCRIPTION:
URL:https://xn--vdh-thringen-ilb.de/event/doppel-cacib-sondershausen-possen-2027-tag-1/
LOCATION:CACIB internationale Hundeausstellung Sonderhausenen\, Possen1\, Sonderhausen\, Thüringen\, 99706\, Germany
CATEGORIES:Ausstellungen,CACIB internationale Ausstellung
ORGANIZER;CN="VDH Landesverband Th%C3%BCringen":MAILTO:ausstellungen@vdh-thüringen.de
END:VEVENT
BEGIN:VEVENT
DTSTART;VALUE=DATE:20270613
DTEND;VALUE=DATE:20270614
DTSTAMP:20260423T004634
CREATED:20250826T202504Z
LAST-MODIFIED:20250827T195359Z
UID:741-1812844800-1812931199@xn--vdh-thringen-ilb.de
SUMMARY:CACIB Sondershausen/Possen 2027 Tag 2
DESCRIPTION:
URL:https://xn--vdh-thringen-ilb.de/event/cacib-sondershausen-possen-27-tag-2/
LOCATION:CACIB internationale Hundeausstellung Sonderhausenen\, Possen1\, Sonderhausen\, Thüringen\, 99706\, Germany
CATEGORIES:Ausstellungen,CACIB internationale Ausstellung
ORGANIZER;CN="VDH Landesverband Th%C3%BCringen":MAILTO:ausstellungen@vdh-thüringen.de
END:VEVENT
END:VCALENDAR